BEGIN:VCALENDAR
VERSION:2.0
CALSCALE:GREGORIAN
PRODID:adamgibbons/ics
METHOD:PUBLISH
X-PUBLISHED-TTL:PT1H
BEGIN:VEVENT
UID:217@botep.org
SUMMARY:Proiezione del film "Esseri Urbani"
DTSTAMP:20260421T193917Z
DTSTART:20260422T190000Z
URL:https://botep.org/event/proiezione-di-esseri-urbani
GEO:45.6848;9.67497
LOCATION:Circolino della Malpensata - Via Luigi Luzzatti 6b\, Bergamo
STATUS:CONFIRMED
CATEGORIES:crisi abitativa,proiezione
END:VEVENT
END:VCALENDAR
